BEGIN:VCALENDAR
VERSION:2.0
PRODID:-//eventon.com NONSGML v1.0//EN
CALSCALE:GREGORIAN
METHOD:PUBLISH
BEGIN:VEVENT
UID:69e734e172938
DTSTAMP:20260421T082713Z
DTSTART:20250411T210000Z
DTEND:20250413T050000Z
LOCATION:Shellharbour
SUMMARY:Beginner Freediver Course
DESCRIPTION:Beginner Freediver Course\nhttps://legaseafreediving.com.au/eve
 nts/beginner-freediver-course-april-2025/
URL:https://legaseafreediving.com.au/events/beginner-freediver-course-april-2025/
END:VEVENT
END:VCALENDAR